

BEGIN:VCALENDAR
VERSION:2.0
PRODID:-//hacksw/handcal//NONSGML v1.0//EN
CALSCALE:GREGORIAN
BEGIN:VEVENT
DTEND:20171106T193000
UID:5e598c5706292
DTSTAMP:20200229T085535
LOCATION:Balcony Room\, Ambassadors Hotel  107 King William Street Adelaide 5000 SA
DESCRIPTION:&nbsp\;
Political fragmentation: the rise and rise of the minor party vote 
&nbsp\;
This month&rsquo\;s talk is from Danielle Wood\, Program Director at the Grattan Institute\, who will discuss the rising minor party vote in Australia and the implications for policy and politics.
&nbsp\;
Synopsis&nbsp\;
The minor party vote in Australia is on the rise. And it is rising faster in the regions than the cities. Politicians in the major parties are nervous and looking to win back voters\, but lack of understanding of the causes of this shift risks bad policy.
In this presentation\, Danielle will explore the economic\, social and institutional explanations for the changes in voting patterns. She will discuss how major parties can best respond to win back disillusioned voters.
Danielle will also touch on the role of think tanks in influencing public policy within Australia.
&nbsp\;
About the speaker
Danielle is the Budget Policy and Institutions Program Director at the Grattan Institute. Danielle&rsquo\;s main research interests are tax and budget policy\, intergenerational inequality and economic and political institutions.
Danielle previously worked as Principal Economist and Mergers Director at the ACCC\, Senior Consultant at NERA Economic Consulting\, and as a Senior Research Economist at the Productivity Commission.
Danielle has a Masters of Economics and a Masters in Competition Law from the University of Melbourne and a Bachelor of Economics (Hons) from the University of Adelaide.
Danielle is the National and Victorian Chair of the Women in Economics Network. She sits on the Victorian and Central Council for the Economic Society of Australia.
&nbsp\;
Venue
The evening is being held&nbsp\;at 5.30pm (concluding 7:30pm) Monday 6 November 2017&nbsp\;at the Ambassadors Hotel (Balcony room)\, 107 King William St\, Adelaide SA 5000.
Drinks and canap&eacute\;s provided\, No cost for Economic Society members. $25 for non-members.&nbsp\;&nbsp\;
RSVP&nbsp\;by Friday\, 3 November 2017&nbsp\;(For catering purposes).&nbsp\;
&nbsp\;
&nbsp\;
&nbsp\;
URL;VALUE=URI:http://esasa.org.au/event/29337
SUMMARY:Political fragmentation: the rise and rise of the minor party vote 
DTSTART:20171106T173000
END:VEVENT
END:VCALENDAR

