

BEGIN:VCALENDAR
VERSION:2.0
PRODID:-//hacksw/handcal//NONSGML v1.0//EN
CALSCALE:GREGORIAN
BEGIN:VEVENT
DTEND:20180209T130000
UID:5e598c3ecaafd
DTSTAMP:20200229T085510
LOCATION:Adelaide Convention Centre\, Hall M\, West Entrance North Terrace Adelaide 5000 SA
DESCRIPTION:SPECIAL INVITATION: Women in Economics Network (WEN) Event
The changing role of women in resource-based industries
The Women in Economics Network (WEN) invite you to a mini-symposium with special guest speakers:
&nbsp\;

Michelle Groves\, Chief Executive Officer\, Office of the Australian Energy Regulator
Fleur McDonald\, Rural Literature Author&nbsp\;&nbsp\;&nbsp\;&nbsp\;&nbsp\;
Professor Jane Doolan\, Commissioner\, Productivity Commission &nbsp\; &nbsp\; &nbsp\; &nbsp\; &nbsp\; &nbsp\;&nbsp\;


&nbsp\;
Event Details&nbsp\;
&nbsp\;




Date


Friday 9 February 2018




Time


10:30pm &ndash\; 12pm presentation
12-12.50pm lunch




Venue


Adelaide Convention Centre\, Hall M\, West Entrance (North Terrace\, Adelaide SA 5000) &nbsp\; 




Price


$30 per person (includes lunch)




&nbsp\;&nbsp\;
After the presentation\, light refreshments will be served and there will be an opportunity to connect with other women in economics. The event will also be open to registrants of the Australian Agricultural and Resource Economics Society (AARES) conference.
&nbsp\;Please note that both women and men are welcome to attend the event.
We thank the Centre for Sustainability Governance (CSG)\, the Australian Economics Society and AARES for their support of the WEN and this event.
&nbsp\;
&nbsp\;
&nbsp\;
URL;VALUE=URI:http://esasa.org.au/event/31209
SUMMARY:The changing role of women in resource-based industries
DTSTART:20180209T103000
END:VEVENT
END:VCALENDAR

