

BEGIN:VCALENDAR
VERSION:2.0
PRODID:-//hacksw/handcal//NONSGML v1.0//EN
CALSCALE:GREGORIAN
BEGIN:VEVENT
DTEND:20180719T190000
UID:5e598c1d4d7a4
DTSTAMP:20200229T085437
LOCATION:Belgian Beer Café (Function Room) 27-29 Ebenezer Pl Adelaide 5000 SA
DESCRIPTION:SPECIAL INVITATION: Women in Economics Network and Australian Agricultural and Resource Economics Society Event
The Women in Economics Network (WEN)&nbsp\;and&nbsp\;the Australian Agricultural and Resource Economics Society&nbsp\;(AARES) invite you to&nbsp\;an evening event with special guest speaker\, Dr Sonia Akter\, National University of Singapore.
Dr Akter is an expert in analysing gender issues in development and will discuss the following topic:
&lsquo\;The impacts of women's access to agricultural extension on household welfare in Timor-Leste&rsquo\;&nbsp\;
&nbsp\;
EVENT DETAILS
When: Thursday 19 July 2018
Time:&nbsp\;5.30pm to 7pm
Where: Belgian Beer Caf&eacute\; (Function Room)\, 27-29 Ebenezer Pl\, Adelaide SA 5000
Light refreshments will be served on arrival.
Please note that attendance is free but registration is required and numbers are limited.
Both women and men are welcome to attend this event.
&nbsp\;
REGISTER NOW
&nbsp\;
About the speaker
Sonia Akter is Assistant Dean (Research) at the Lee Kuan Yew (LKY) School of Public Policy at the National University of Singapore. Previously she was Scientist at the International Rice Research Institute (IRRI) where she led the Gender Research Team and was the coordinator for gender research of the Global Rice Science Partnership (GRiSP) program of the CGIAR (20142015). Prior to that\, she was Senior Researcher at Helmholtz Centre for Environmental Research-UFZ\, Leipzig\, Germany (2011&minus\;2013). She graduated with a PhD in Environmental Management and Development from the Australian National University in 2010\, and holds a MS degree in Economics from York University\, Toronto\, Canada.

URL;VALUE=URI:http://esasa.org.au/event/35168
SUMMARY:Women in Economics Network and Australian Agricultural and Resource Economics Society Event
DTSTART:20180719T173000
END:VEVENT
END:VCALENDAR

