

BEGIN:VCALENDAR
VERSION:2.0
PRODID:-//hacksw/handcal//NONSGML v1.0//EN
CALSCALE:GREGORIAN
BEGIN:VEVENT
DTEND:20190307T210000
UID:5e598b4f8007a
DTSTAMP:20200229T085111
LOCATION:Amber Lounge Adelaide 107 King William Street Adelaide 5000 SA
DESCRIPTION:For the first event of 2019 Young Economists South Australia  would like to present
"Modern Monetary Theory and a Federal Job Guarantee: the Economics behind Bernie Sanders" Presented by
 Dr Steven Hail
Dr Hail  is a modern monetary theory (MMT) economist\, advocates for a voluntary and equitable job guarantee\, and is always happy to chat about MMT\, behavioural and Post-Keynesian economics\, and about ecological issues.&nbsp\; He is currently a research scholar at the Global Institute for Sustainable Prosperity. Steven has more than 30 years of experience as a lecturer in tertiary and financial training institutions in Australia and the UK.
Dr Steven Hail's Researcher Profile
Event Details:&nbsp\;
Date:&nbsp\;Thursday 7 March 2019
Time: 6 pm to 9 pm&nbsp\;
Drinks starting from 6pmPresentation with Q&amp\;A from 6:30 until 7:30 Drinks\, nibbles and socialising from 7:30
Venue: Amber Lounge Adelaide
&nbsp\; &nbsp\; &nbsp\; &nbsp\; &nbsp\; &nbsp\; 107 King William Street\, Adelaide 5000.
&nbsp\;Cost: Free event for members $20 for attending a once-off event Economic Society annual memberships for students is $25. 
 For other membership costs and benefits\, please see Join ESA  &nbsp\; &nbsp\; &nbsp\; &nbsp\; &nbsp\;
&nbsp\;Please note\, Steven is hosting another event 
"Really Ending Poverty - A Job Guarantee and An Income Guarantee" on Monday 4th March. 
See more details
&nbsp\;
Hope to see you there!
&nbsp\;
With kind regards\,&nbsp\;
Young Economists SA team
&nbsp\;



&nbsp\;
&nbsp\;



&nbsp\;

URL;VALUE=URI:http://esasa.org.au/event/37904
SUMMARY:Modern Monetary Theory and a Federal Job Guarantee
DTSTART:20190307T180000
END:VEVENT
END:VCALENDAR

