

BEGIN:VCALENDAR
VERSION:2.0
PRODID:-//hacksw/handcal//NONSGML v1.0//EN
CALSCALE:GREGORIAN
BEGIN:VEVENT
DTEND:20190314T170000
UID:5e598b44993c8
DTSTAMP:20200229T085100
LOCATION:School of Economics Nexus 10\, Pulteney Street Adelaide 5000 SA
DESCRIPTION:Zhang Wei attended the School of Economics of the University of Adelaide Annual Prize Award Ceremony on behalf of the Economic Society of Australia (SA) on March 14th. He presented the certificate to the Prize winner in Intermediate Econometrics at the event.

URL;VALUE=URI:http://esasa.org.au/event/38250
SUMMARY:Economics Prize Award Ceremony (SA)
DTSTART:20190314T154500
END:VEVENT
END:VCALENDAR

