

BEGIN:VCALENDAR
VERSION:2.0
PRODID:-//hacksw/handcal//NONSGML v1.0//EN
CALSCALE:GREGORIAN
BEGIN:VEVENT
DTEND:20190528T193000
UID:5e598afd25828
DTSTAMP:20200229T084949
LOCATION:Level 7\, KPMG Building Adelaide 151 Pirie Street Adelaide 5000 SA
DESCRIPTION:&nbsp\;
The Economic Society of Australia (South Australia) invites you to an evening&nbsp\;event with special guest speaker\, Dr Matthew Butlin from the South Australian Productivity Commission. The topic of his presentation is
&nbsp\;
&nbsp\;Productivity\, Growth and Reform 
&nbsp\;
About the Speaker
Dr. Matthew Butlin is the Chair and Chief Executive of the South Australian Productivity Commission. This is a part-time appointment.
Dr Butlin previously held the role of Red Tape Commissioner in Victoria from September 2015 to June 2018. He was Chairman of the Victorian Competition and Efficiency Commission (VCEC) from 2008 to 2015\, a body that performed a similar role to the SAPC\, and a Commissioner with the Commonwealth Productivity Commission in 2007 and 2008. He has held various senior executive roles in the Australian Public Service\, and in the mining and management consulting industries.
Dr Butlin is also a part-time Senior Associate of ACIL Allen Consulting. There are strict protocols in place with the South Australian Government to avoid any conflicts of interest between this role and his concurrent role as the Chair of the SAPC.
In addition\, he is currently the national President of the Economic Society of Australia and an honorary Enterprise Professor at Melbourne University&rsquo\;s Melbourne Institute of Applied Economic and Social Research. He is a former honorary Professorial Fellow at the Monash Business School.
Dr Butlin holds qualifications from the Massachusetts Institute of Technology and the Australian National University.
&nbsp\;
Event details
&nbsp\;
When: Tuesday&nbsp\;28 May&nbsp\;2019
Time: 5.30 pm to 7.30 pm
Where: KPMG\, Level 7\, 151 Pirie Street\, Adelaide 5000. 
&nbsp\;
Register&nbsp\;now as&nbsp\;seats are limited!
Attendance is free for current members of the Economic Society of Australia and Women in Economics (WEN).&nbsp\; Tickets for non-members are $20. Membership is available at the event.
&nbsp\;Sign up to Economic Society of Australia&nbsp\;to enjoy benefits and&nbsp\;upcoming events in 2019.
This event is proudly sposored by KPMG.&nbsp\;&nbsp\;

&nbsp\;
URL;VALUE=URI:http://esasa.org.au/event/38848
SUMMARY:ESA event: Productivity\, Growth and Reform
DTSTART:20190528T173000
END:VEVENT
END:VCALENDAR

