

BEGIN:VCALENDAR
VERSION:2.0
PRODID:-//hacksw/handcal//NONSGML v1.0//EN
CALSCALE:GREGORIAN
BEGIN:VEVENT
DTEND:20190516T193000
UID:5e598b1e051ff
DTSTAMP:20200229T085022
LOCATION:Flinders University City Campus\, Level 1 182 Victoria Square Adelaide 5000 SA
DESCRIPTION:Prof_Shepard_Fulbright_Lecture_16_May.pdf
&nbsp\;
URL;VALUE=URI:http://esasa.org.au/event/38891
SUMMARY:Economic evaluation of innovative technologies: South Australia’s use of Sterile Insect Technique (SIT) to control the Queensland fruit fly
DTSTART:20190516T171500
END:VEVENT
END:VCALENDAR

