

BEGIN:VCALENDAR
VERSION:2.0
PRODID:-//hacksw/handcal//NONSGML v1.0//EN
CALSCALE:GREGORIAN
BEGIN:VEVENT
DTEND:20190612T133000
UID:5e598aded5a5b
DTSTAMP:20200229T084918
LOCATION:ANZ\, Level 21 11 Waymouth Street Adelaide 5000 SA
DESCRIPTION:The Women in Economics Network (WEN) invite you to a lunchtime event with special guest speaker\, Cherelle Murphy\, Senior Economist at ANZ. Cherelle will discuss the following topic: What&rsquo\;s in store for the South Australian economy?
&nbsp\;
About the speaker
&nbsp\;
Cherelle Murphy&nbsp\; is a member of ANZ&rsquo\;s Research team. She analyses and forecasts the Australian economy and provides regular updates and insights on topics that are front of mind for ANZ&rsquo\;s clients. Cherelle has a special interest in fiscal policy and policy issues affecting the domestic outlook. Cherelle has also worked in ANZ corporate communications\, holding the position of Senior Manager of Media Relations for two years. She also worked as a journalist for the Australian Financial Review for five years\, including as Economics Correspondent for the paper in the Federal Parliamentary Press Gallery.
&nbsp\;
About the event
South Australia has been resilient as the north and west traversed the commodity price boom and enjoyed relative calm as the eastern states have been bumped around by housing.
What&rsquo\;s next for South Australia? Does it maintain its cool &ldquo\;we&rsquo\;ll do it our way&rdquo\; kind of vibe\, or will the national slowdown weigh on South Australia too?
&nbsp\;
Event details
When: Wednesday 12 June 2019
Time: 12.15pm &ndash\; 1.30pm
Where: ANZ\, Level 21\, 11 Waymouth Street\, Adelaide
Cost: Free for WEN members\, $10 for non-members
&nbsp\;
A sandwich lunch\, tea and coffee will be served on arrival. Both women and men are welcome to attend the event.
We thank&nbsp\;ANZ&nbsp\;and the Economic Society of Australia for their support of WEN and this event. &nbsp\; &nbsp\;
&nbsp\;&nbsp\;&nbsp\;&nbsp\;
URL;VALUE=URI:http://esasa.org.au/event/38910
SUMMARY:WEN Lunchtime Event: What’s in store for the South Australian economy?
DTSTART:20190612T121500
END:VEVENT
END:VCALENDAR

