

BEGIN:VCALENDAR
VERSION:2.0
PRODID:-//hacksw/handcal//NONSGML v1.0//EN
CALSCALE:GREGORIAN
BEGIN:VEVENT
DTEND:20191003T203000
UID:5e598ad3029ce
DTSTAMP:20200229T084906
LOCATION:Amber Lounge  Ambassadors Hotel\, 107 King William Street\, Adelaide 5000 SA
DESCRIPTION:Young Economist meet and greet
Date: Thursday 3rd October
Address: Amber Lounge (Ambassadors Hotel)
107 King William Street\, Adelaide SA 5000
Time: 5:30pm - 8:30pm
Cost: Free for Member\, $20.00 for Non-member&nbsp\;
This event of Young Economists* (Economic Society of Australia - SA Branch) is a simple meet and greet. Come along\, enjoy a drink and meet other members who happen to be young people with an interest or are working in economics.
As a short introduction\, your host of the evening and the current Young Economist Committee Member is Aaron Fromm. Aaron has recently commenced a role as an Economic Analyst at PIRSA\, after a number of years in the wealth management industry.
*Young Economists are defined as &ldquo\;economists under the age of 40 or in their first 10 years of their career&rdquo\;.
Link to facebook
&nbsp\;
URL;VALUE=URI:http://esasa.org.au/event/40504
SUMMARY:Young Economist Meet and Greet 
DTSTART:20191003T173000
END:VEVENT
END:VCALENDAR

