

BEGIN:VCALENDAR
VERSION:2.0
PRODID:-//hacksw/handcal//NONSGML v1.0//EN
CALSCALE:GREGORIAN
BEGIN:VEVENT
DTEND:20191115T133000
UID:5e598ac8507bf
DTSTAMP:20200229T084856
LOCATION:Deloitte Access Economics\, Level 17 11 Waymouth Street Adelaide 5000 SA
DESCRIPTION:The Women in Economics Network (WEN) invite you to a lunchtime event with special guest speaker\, Lynne Cockerell\, Deputy Head of the Economic Analysis Department at the Reserve Bank. Lynne will discuss the following topic: The future of growth &ndash\; the role of education and health.
About the speaker
Lynne Cockerell has worked at the Bank for more than 25 years across both their Economic and Financial Markets Group. During the financial crisis\, she worked in the Bank&rsquo\;s international relations area\, and got a front-row seat to the changing role of the G-20 and the IMF at that time. Lynne also spent two years in the United States\, working as a policy advisor in the Markets Group at the Federal Reserve Bank of New York. Lynne has been involved in a number of committees and boards. She is a former Trustee of the Reserve Bank&rsquo\;s Officer Superannuation Fund\, and outside of work\, she is the Treasurer for the Canterbury Ice Hockey Club. She has an honours degree in economics and econometrics from the University of New South Wales and a masters from the London School of Economics.
&nbsp\;
Event details
When: Friday 15 November
Time: 12.15pm &ndash\; 1.30pm
Where: Deloitte Access Economics\, Level 17\, 11 Waymouth Street\, Adelaide
Cost: Free for WEN members\, $10 for non-members
&nbsp\;
A sandwich lunch will be served on arrival. Both women and men are welcome to attend the event.
We thank&nbsp\;Deloitte Access Economics&nbsp\;and the Economic Society of Australia for their support of WEN and this event.
REGISTER HERE
&nbsp\;

&nbsp\;
URL;VALUE=URI:http://esasa.org.au/event/40869
SUMMARY:WEN Event: Lynne Cockerell from the Reserve Bank of Australia
DTSTART:20191115T121500
END:VEVENT
END:VCALENDAR

